BEGIN:VCALENDAR
VERSION:2.0
PRODID:-//BSG Raiffeisen - Kärnten - ECPv6.15.20//NONSGML v1.0//EN
CALSCALE:GREGORIAN
METHOD:PUBLISH
X-WR-CALNAME:BSG Raiffeisen - Kärnten
X-ORIGINAL-URL:https://www.bsg-raiffeisen.at
X-WR-CALDESC:Veranstaltungen für BSG Raiffeisen - Kärnten
REFRESH-INTERVAL;VALUE=DURATION:PT1H
X-Robots-Tag:noindex
X-PUBLISHED-TTL:PT1H
BEGIN:VTIMEZONE
TZID:Europe/Helsinki
BEGIN:DAYLIGHT
TZOFFSETFROM:+0200
TZOFFSETTO:+0300
TZNAME:EEST
DTSTART:20240331T010000
END:DAYLIGHT
BEGIN:STANDARD
TZOFFSETFROM:+0300
TZOFFSETTO:+0200
TZNAME:EET
DTSTART:20241027T010000
END:STANDARD
BEGIN:DAYLIGHT
TZOFFSETFROM:+0200
TZOFFSETTO:+0300
TZNAME:EEST
DTSTART:20250330T010000
END:DAYLIGHT
BEGIN:STANDARD
TZOFFSETFROM:+0300
TZOFFSETTO:+0200
TZNAME:EET
DTSTART:20251026T010000
END:STANDARD
BEGIN:DAYLIGHT
TZOFFSETFROM:+0200
TZOFFSETTO:+0300
TZNAME:EEST
DTSTART:20260329T010000
END:DAYLIGHT
BEGIN:STANDARD
TZOFFSETFROM:+0300
TZOFFSETTO:+0200
TZNAME:EET
DTSTART:20261025T010000
END:STANDARD
END:VTIMEZONE
BEGIN:VEVENT
DTSTART;TZID=Europe/Helsinki:20250303T123000
DTEND;TZID=Europe/Helsinki:20250303T133000
DTSTAMP:20260425T170516
CREATED:20250204T100640Z
LAST-MODIFIED:20250204T100640Z
UID:10000574-1741005000-1741008600@www.bsg-raiffeisen.at
SUMMARY:Lunch Beat - Tanzen in der Mittagspause
DESCRIPTION:Liebe Kolleg:innen! \nWir feiern den Rosenmontag und Tanzen in der Mittagspause! \nNeben cooler Musik erwarten euch kleine Häppchen und Krapfen! \n \nWir freuen uns auf eure Teilnahme und ersuchen um Anmeldung per Mail an Nicole.wegerth@rbgk.raiffeisen.at \nLiebe Grüße \nMartina Ulrich & Nicole Wegerth \nBSG Sektion Tanzen
URL:https://www.bsg-raiffeisen.at/event/lunch-beat-tanzen-in-der-mittagspause/
CATEGORIES:Sektion Tanzen
END:VEVENT
END:VCALENDAR