BEGIN:VCALENDAR
VERSION:2.0
PRODID:-//BSG Raiffeisen - Kärnten - ECPv6.15.20//NONSGML v1.0//EN
CALSCALE:GREGORIAN
METHOD:PUBLISH
X-ORIGINAL-URL:https://www.bsg-raiffeisen.at
X-WR-CALDESC:Veranstaltungen für BSG Raiffeisen - Kärnten
REFRESH-INTERVAL;VALUE=DURATION:PT1H
X-Robots-Tag:noindex
X-PUBLISHED-TTL:PT1H
BEGIN:VTIMEZONE
TZID:Europe/Helsinki
BEGIN:DAYLIGHT
TZOFFSETFROM:+0200
TZOFFSETTO:+0300
TZNAME:EEST
DTSTART:20240331T010000
END:DAYLIGHT
BEGIN:STANDARD
TZOFFSETFROM:+0300
TZOFFSETTO:+0200
TZNAME:EET
DTSTART:20241027T010000
END:STANDARD
BEGIN:DAYLIGHT
TZOFFSETFROM:+0200
TZOFFSETTO:+0300
TZNAME:EEST
DTSTART:20250330T010000
END:DAYLIGHT
BEGIN:STANDARD
TZOFFSETFROM:+0300
TZOFFSETTO:+0200
TZNAME:EET
DTSTART:20251026T010000
END:STANDARD
BEGIN:DAYLIGHT
TZOFFSETFROM:+0200
TZOFFSETTO:+0300
TZNAME:EEST
DTSTART:20260329T010000
END:DAYLIGHT
BEGIN:STANDARD
TZOFFSETFROM:+0300
TZOFFSETTO:+0200
TZNAME:EET
DTSTART:20261025T010000
END:STANDARD
END:VTIMEZONE
BEGIN:VEVENT
DTSTART;TZID=Europe/Helsinki:20250204T163000
DTEND;TZID=Europe/Helsinki:20250204T200000
DTSTAMP:20260425T170923
CREATED:20250116T114528Z
LAST-MODIFIED:20250116T114630Z
UID:10000295-1738686600-1738699200@www.bsg-raiffeisen.at
SUMMARY:BSG - Wintercup 2025
DESCRIPTION:Liebe BSG-Mitglieder! \nEs ist wieder soweit – der traditionelle BSG – Wintercup steht bevor! Wir freuen uns\, euch zu vier aufregenden Wettbewerben einzuladen\, die den Teamgeist und das Miteinander fördern. \n  \nTERMINE: alle Bewerbe starten pünktlich um 16:30 Uhr! \n1. Bewerb „Eisstockschießen“ – am 21.1.2025 im Gasthaus Krall in Klagenfurt statt. Ein großartiger Start\, um den Winter mit Spaß und Sport einzuläuten! \n2. Bewerb „Billard & Bowlen“ – am 4.2.2025 im CineCity Klagenfurt. \n3. Bewerb „Zimmergewehrschießen“ – am 6.3.2025 – Krassnigstraße\, Schützenverein zu Klagenfurt \n4. Bewerb „Überraschungsbewerb“ – am – Termin folgt (Mitte März) – im RLB Eventplateau. \n  \nTEAMS:  \n\nEin Team besteht aus mindestens 4 Personen. Die Teilnahme einer Dame im Team ist verpflichtend. Überlegt euch kreative und coole Teamnamen\, die eure Einzigartigkeit unterstreichen.\nUnd hier ist der Clou für unsere neuen Mitarbeiter:innen: Der BSG – Wintercup bietet eine fantastische Gelegenheit\, nicht nur sportlich aktiv zu sein\, sondern auch neue Kontakte zu knüpfen und das Netzwerk zu erweitern!\n\n  \nANMELDUNGEN:  \nBis spätestens 17.1.2025 unter folgendem Link: HIERT GEHT´S ZUR ANMELDUNG! \nGerne werden auch Einzelanmeldungen entgegen genommen! Bei entsprechenden Anmeldungen können daraus ebenso Gruppen gebildet werden. \nSPIELREGELN: \n\nDie Teams müssen aus mindestens vier und maximal acht Personen bestehen – somit ist es nicht erforderlich\, dass jedes Teammitglied an allen vier Wettbewerben teilnehmen muss. \nDie Teilnahme einer Dame im Team ist jedoch verpflichtend!\n\nEs werden alle Platzierungen gewertet: \n\n1. Platz = 25 Punkte\n2. Platz = 23 Punkte\n3. Platz = 21 Punkte\nBei allen weiteren Rängen reduziert sich die Wertung um jeweils 1 Punkt.\n\nVORAUSSETZUNGEN: \n\nAktive BSG – Mitgliedschaft\n\nLasst uns gemeinsam eine unvergessliche und lustige Zeit im BSG – Wintercup 2025 erleben – Spaß\, Sport und Networking in einem!  \nWir freuen uns auf zahlreiche Anmeldungen!
URL:https://www.bsg-raiffeisen.at/event/bsg-wintercup-2025/2025-02-04/
LOCATION:Gasthaus Krall\, Ehrentaler Straße 57\, Klagenfurt\, 9020\, Österreich
CATEGORIES:Sektion Eisstockschießen,Sektion Kegeln
END:VEVENT
BEGIN:VEVENT
DTSTART;TZID=Europe/Helsinki:20250212T161500
DTEND;TZID=Europe/Helsinki:20250212T223000
DTSTAMP:20260425T170923
CREATED:20250128T145859Z
LAST-MODIFIED:20250128T145859Z
UID:10000309-1739376900-1739399400@www.bsg-raiffeisen.at
SUMMARY:Vollmond Schitour St. Oswald/Brunnach
DESCRIPTION:
URL:https://www.bsg-raiffeisen.at/event/vollmond-schitour-st-oswald-brunnach/
END:VEVENT
BEGIN:VEVENT
DTSTART;TZID=Europe/Helsinki:20250217T180000
DTEND;TZID=Europe/Helsinki:20250217T180000
DTSTAMP:20260425T170923
CREATED:20250127T222104Z
LAST-MODIFIED:20250422T085139Z
UID:10000301-1739815200-1739815200@www.bsg-raiffeisen.at
SUMMARY:Langlaufkurse 2025 – Skating für Einsteiger:innen
DESCRIPTION:Für alle\, die Langlaufen ausprobieren oder die Techniken von Grund auf lernen möchten\, bietet die Raiffeisen Betriebssportgemeinschaft auch in diesem Winter Skating-Langlaufkurse für Einsteiger:innen an. \nKurstermine: \n\nMontag\, 17.02.2025\, 18:00 – 19:45 Uhr\nDonnerstag\, 20.02.2025\, 18:00 – 19:45 Uhr\n\nOrt: \nAlpenarena Villach\nVillacher Alpenstraße 2\, 9500 Villach  \nKosten: \nDie Teilnahmegebühr beträgt € 100\,- pro Kurs (inkl. Loipengebühr).\nDie BSG gewährt nach erfolgreicher Teilnahme einen Zuschuss von € 50\,-. \nLanglaufausrüstung: \nFalls keine eigene Ausrüstung vorhanden ist\, kann diese über die BSG reserviert und vor Ort bezahlt werden. Die Bekanntgabe erfolgt im Zuge des Anmeldeprozesses (siehe Link weiter unten). \nAnmeldung: \nDie Anmeldung ist bis spätestens 15.02.2025 möglich.
URL:https://www.bsg-raiffeisen.at/event/langlaufkurse-2025-skating-und-klassisch-fuer-einsteigerinnen-2/
LOCATION:Alpenarena Villach\, Villacher Alpenstraße 2\, Villach\, 9500\, Österreich
CATEGORIES:Sektion Langlaufen
END:VEVENT
BEGIN:VEVENT
DTSTART;TZID=Europe/Helsinki:20250220T180000
DTEND;TZID=Europe/Helsinki:20250220T194500
DTSTAMP:20260425T170923
CREATED:20250127T221019Z
LAST-MODIFIED:20250422T085105Z
UID:10000298-1740074400-1740080700@www.bsg-raiffeisen.at
SUMMARY:Langlaufkurse 2025 – Skating für Einsteiger:innen
DESCRIPTION:Für alle\, die Langlaufen ausprobieren oder die Techniken von Grund auf lernen möchten\, bietet die Raiffeisen Betriebssportgemeinschaft auch in diesem Winter Skating-Langlaufkurse für Einsteiger:innen an. \nKurstermine: \n\nMontag\, 17.02.2025\, 18:00 – 19:45 Uhr\nDonnerstag\, 20.02.2025\, 18:00 – 19:45 Uhr\n\nOrt: \nAlpenarena Villach\nVillacher Alpenstraße 2\, 9500 Villach  \nKosten: \nDie Teilnahmegebühr beträgt € 100\,- pro Kurs (inkl. Loipengebühr).\nDie BSG gewährt nach erfolgreicher Teilnahme einen Zuschuss von € 50\,-. \nLanglaufausrüstung: \nFalls keine eigene Ausrüstung vorhanden ist\, kann diese über die BSG reserviert und vor Ort bezahlt werden. Die Bekanntgabe erfolgt im Zuge des Anmeldeprozesses (siehe Link weiter unten). \nAnmeldung: \nDie Anmeldung ist bis spätestens 15.02.2025 möglich.
URL:https://www.bsg-raiffeisen.at/event/langlaufkurse-2025-skating-und-klassisch-fuer-einsteigerinnen/
LOCATION:Alpenarena Villach\, Villacher Alpenstraße 2\, Villach\, 9500\, Österreich
CATEGORIES:Sektion Langlaufen
END:VEVENT
END:VCALENDAR