BEGIN:VCALENDAR
VERSION:2.0
PRODID:-//BSG Raiffeisen - Kärnten - ECPv6.15.20//NONSGML v1.0//EN
CALSCALE:GREGORIAN
METHOD:PUBLISH
X-WR-CALNAME:BSG Raiffeisen - Kärnten
X-ORIGINAL-URL:https://www.bsg-raiffeisen.at
X-WR-CALDESC:Veranstaltungen für BSG Raiffeisen - Kärnten
REFRESH-INTERVAL;VALUE=DURATION:PT1H
X-Robots-Tag:noindex
X-PUBLISHED-TTL:PT1H
BEGIN:VTIMEZONE
TZID:Europe/Helsinki
BEGIN:DAYLIGHT
TZOFFSETFROM:+0200
TZOFFSETTO:+0300
TZNAME:EEST
DTSTART:20240331T010000
END:DAYLIGHT
BEGIN:STANDARD
TZOFFSETFROM:+0300
TZOFFSETTO:+0200
TZNAME:EET
DTSTART:20241027T010000
END:STANDARD
BEGIN:DAYLIGHT
TZOFFSETFROM:+0200
TZOFFSETTO:+0300
TZNAME:EEST
DTSTART:20250330T010000
END:DAYLIGHT
BEGIN:STANDARD
TZOFFSETFROM:+0300
TZOFFSETTO:+0200
TZNAME:EET
DTSTART:20251026T010000
END:STANDARD
BEGIN:DAYLIGHT
TZOFFSETFROM:+0200
TZOFFSETTO:+0300
TZNAME:EEST
DTSTART:20260329T010000
END:DAYLIGHT
BEGIN:STANDARD
TZOFFSETFROM:+0300
TZOFFSETTO:+0200
TZNAME:EET
DTSTART:20261025T010000
END:STANDARD
END:VTIMEZONE
BEGIN:VEVENT
DTSTART;TZID=Europe/Helsinki:20250303T123000
DTEND;TZID=Europe/Helsinki:20250303T133000
DTSTAMP:20260425T151303
CREATED:20250204T100640Z
LAST-MODIFIED:20250204T100640Z
UID:10000574-1741005000-1741008600@www.bsg-raiffeisen.at
SUMMARY:Lunch Beat - Tanzen in der Mittagspause
DESCRIPTION:Liebe Kolleg:innen! \nWir feiern den Rosenmontag und Tanzen in der Mittagspause! \nNeben cooler Musik erwarten euch kleine Häppchen und Krapfen! \n \nWir freuen uns auf eure Teilnahme und ersuchen um Anmeldung per Mail an Nicole.wegerth@rbgk.raiffeisen.at \nLiebe Grüße \nMartina Ulrich & Nicole Wegerth \nBSG Sektion Tanzen
URL:https://www.bsg-raiffeisen.at/event/lunch-beat-tanzen-in-der-mittagspause/
CATEGORIES:Sektion Tanzen
END:VEVENT
BEGIN:VEVENT
DTSTART;TZID=Europe/Helsinki:20250306T163000
DTEND;TZID=Europe/Helsinki:20250306T200000
DTSTAMP:20260425T151303
CREATED:20250116T114528Z
LAST-MODIFIED:20250116T114630Z
UID:10000296-1741278600-1741291200@www.bsg-raiffeisen.at
SUMMARY:BSG - Wintercup 2025
DESCRIPTION:Liebe BSG-Mitglieder! \nEs ist wieder soweit – der traditionelle BSG – Wintercup steht bevor! Wir freuen uns\, euch zu vier aufregenden Wettbewerben einzuladen\, die den Teamgeist und das Miteinander fördern. \n  \nTERMINE: alle Bewerbe starten pünktlich um 16:30 Uhr! \n1. Bewerb „Eisstockschießen“ – am 21.1.2025 im Gasthaus Krall in Klagenfurt statt. Ein großartiger Start\, um den Winter mit Spaß und Sport einzuläuten! \n2. Bewerb „Billard & Bowlen“ – am 4.2.2025 im CineCity Klagenfurt. \n3. Bewerb „Zimmergewehrschießen“ – am 6.3.2025 – Krassnigstraße\, Schützenverein zu Klagenfurt \n4. Bewerb „Überraschungsbewerb“ – am – Termin folgt (Mitte März) – im RLB Eventplateau. \n  \nTEAMS:  \n\nEin Team besteht aus mindestens 4 Personen. Die Teilnahme einer Dame im Team ist verpflichtend. Überlegt euch kreative und coole Teamnamen\, die eure Einzigartigkeit unterstreichen.\nUnd hier ist der Clou für unsere neuen Mitarbeiter:innen: Der BSG – Wintercup bietet eine fantastische Gelegenheit\, nicht nur sportlich aktiv zu sein\, sondern auch neue Kontakte zu knüpfen und das Netzwerk zu erweitern!\n\n  \nANMELDUNGEN:  \nBis spätestens 17.1.2025 unter folgendem Link: HIERT GEHT´S ZUR ANMELDUNG! \nGerne werden auch Einzelanmeldungen entgegen genommen! Bei entsprechenden Anmeldungen können daraus ebenso Gruppen gebildet werden. \nSPIELREGELN: \n\nDie Teams müssen aus mindestens vier und maximal acht Personen bestehen – somit ist es nicht erforderlich\, dass jedes Teammitglied an allen vier Wettbewerben teilnehmen muss. \nDie Teilnahme einer Dame im Team ist jedoch verpflichtend!\n\nEs werden alle Platzierungen gewertet: \n\n1. Platz = 25 Punkte\n2. Platz = 23 Punkte\n3. Platz = 21 Punkte\nBei allen weiteren Rängen reduziert sich die Wertung um jeweils 1 Punkt.\n\nVORAUSSETZUNGEN: \n\nAktive BSG – Mitgliedschaft\n\nLasst uns gemeinsam eine unvergessliche und lustige Zeit im BSG – Wintercup 2025 erleben – Spaß\, Sport und Networking in einem!  \nWir freuen uns auf zahlreiche Anmeldungen!
URL:https://www.bsg-raiffeisen.at/event/bsg-wintercup-2025/2025-03-06/
LOCATION:Gasthaus Krall\, Ehrentaler Straße 57\, Klagenfurt\, 9020\, Österreich
CATEGORIES:Sektion Eisstockschießen,Sektion Kegeln
END:VEVENT
BEGIN:VEVENT
DTSTART;VALUE=DATE:20250307
DTEND;VALUE=DATE:20250310
DTSTAMP:20260425T151303
CREATED:20250129T085323Z
LAST-MODIFIED:20250129T085323Z
UID:10000310-1741305600-1741564799@www.bsg-raiffeisen.at
SUMMARY:AK-Hallenfußball-Turnier 2025
DESCRIPTION:Liebe Fußballfreunde\, \nvom 7. bis 9. März 2025 findet das AK-Hallenfußball-Turnier im Sportpark Klagenfurt statt! Wir laden alle Fußballbegeisterten herzlich ein\, daran teilzunehmen. \nTurnierablauf: \n\nFreitag\, 7. März 2025: Vorrunden\nSamstag\, 8. März 2025: Vorrunden\nSonntag\, 9. März 2025: Finalspiele\n\nGespielt wird auf drei Feldern im 4+1 Modus\, was spannende Matches und viel Action garantiert! \nAnmeldung: Bitte meldet euch rechtzeitig bis 07.02.2025 per E-Mail oder Telefon bei Markus Palli \nWir freuen uns auf eure Teilnahme! \nMit sportlichen Grüßen \nMarkus Palli (DW 12403) und Markus Götzhaber (DW 12208) \nBSG Sektionsleiter Fußball
URL:https://www.bsg-raiffeisen.at/event/ak-hallenfussball-turnier-2025/
LOCATION:Sportpark Klagenfurt\, Siebenhügelstraße 107\, Klagenfurt\, Kärnten\, 9020\, Austria
CATEGORIES:Sektion Fussball
END:VEVENT
BEGIN:VEVENT
DTSTART;TZID=Europe/Helsinki:20250307T180000
DTEND;TZID=Europe/Helsinki:20250308T190000
DTSTAMP:20260425T151303
CREATED:20250128T143923Z
LAST-MODIFIED:20250128T144028Z
UID:10000308-1741370400-1741460400@www.bsg-raiffeisen.at
SUMMARY:Raiffeisen Eishockey Bundesländerturnier
DESCRIPTION:
URL:https://www.bsg-raiffeisen.at/event/raiffeisen-eishockey-bundeslaenderturnier/
LOCATION:Eissportzentrum Ferlach\, Austria
END:VEVENT
END:VCALENDAR